BEGIN:VCALENDAR
VERSION:2.0
PRODID:-//PIRATEN//NONSGML ELSAevent//DE
METHOD:PUBLISH
BEGIN:VEVENT
CATEGORIES:sonstige Veranstaltung\, Aufstellungsversammlung
CLASS:PUBLIC
UID:20780@kalender.piratenpartei-bayern.de
ORGANIZER;CN="BzV Oberbayern":MAILTO:
SUMMARY:Aufstellungsversammlung Gauting
DESCRIPTION:Sonntag\, 09.11.2025 16:00 Uhr Bosco\, Bürger- und Kulturhaus Gauting Oberer Kirchenweg 1 82131 Gauting
LOCATION:Bosco\, Bürger- und Kulturhaus Gauting\, Oberer Kirchenweg 1\, 82131 Gauting
DTSTART;TZID=Europe/Berlin:20251109T160000
DTEND;TZID=Europe/Berlin:20251109T170000
DTSTAMP:20251103T193011Z
END:VEVENT
END:VCALENDAR