BEGIN:VCALENDAR
VERSION:2.0
PRODID:-//PIRATEN//NONSGML ELSAevent//DE
METHOD:PUBLISH
BEGIN:VEVENT
CATEGORIES:Vorstandssitzung
CLASS:PUBLIC
UID:20793@kalender.piratenpartei-bayern.de
ORGANIZER;CN="LV Bayern":MAILTO:vorstand@piratenpartei-bayern.de
SUMMARY:LaVo Sitzung
DESCRIPTION:Die ordentlichen Sitzungen des Bayerischen Landesvorstandes findet jeweils am ersten Dienstag im Monat statt.  Wir treffen uns ab 20 Uhr im Jitis:  - Gäste sind uns stets willkommen.    Laufendes Pad: 
LOCATION:https://meet.ffmuc.net/17-lavo-by
DTSTART;TZID=Europe/Berlin:20260602T200000
DTEND;TZID=Europe/Berlin:20260602T220000
DTSTAMP:20251103T013036Z
END:VEVENT
END:VCALENDAR