BEGIN:VCALENDAR
VERSION:2.0
PRODID:-//PIRATEN//NONSGML ELSAevent//DE
METHOD:PUBLISH
BEGIN:VEVENT
CATEGORIES:Stammtisch
CLASS:PUBLIC
UID:20803@kalender.piratenpartei-bayern.de
ORGANIZER;CN="LV Bayern":MAILTO:vorstand@piratenpartei-bayern.de
SUMMARY:online Stammtisch Bayern
DESCRIPTION:Wir treffen uns jeweils am letzten Donnerstag im Monat zum online Stammtisch im [BBB: https://bbb.piratensommer.de/b/ste-mqn-4pv-irm][1]   [1]: https://bbb.piratensommer.de/b/ste-mqn-4pv-irm
LOCATION:https://bbb.piratensommer.de/b/ste-mqn-4pv-irm
DTSTART;TZID=Europe/Berlin:20260528T180000
DTEND;TZID=Europe/Berlin:20260528T220000
DTSTAMP:20251103T013257Z
END:VEVENT
END:VCALENDAR