BEGIN:VCALENDAR
VERSION:2.0
PRODID:-//PIRATEN//NONSGML ELSAevent//DE
METHOD:PUBLISH
BEGIN:VEVENT
CATEGORIES:Arbeitstreffen
CLASS:PUBLIC
UID:20818@kalender.piratenpartei-bayern.de
ORGANIZER;CN="LV Bayern":MAILTO:vorstand@piratenpartei-bayern.de
SUMMARY:BayernIT Monthly
DESCRIPTION:Monatliche Session der SG BayernIT
LOCATION:online
DTSTART;TZID=Europe/Berlin:20260727T200000
DTEND;TZID=Europe/Berlin:20260727T233000
DTSTAMP:20251105T030746Z
END:VEVENT
END:VCALENDAR