BEGIN:VCALENDAR
VERSION:2.0
PRODID:-//PIRATEN//NONSGML ELSAevent//DE
METHOD:PUBLISH
BEGIN:VEVENT
CATEGORIES:Demo
CLASS:PUBLIC
UID:20842@kalender.piratenpartei-bayern.de
ORGANIZER;CN="BzV Oberbayern":MAILTO:
SUMMARY:Ukrainedemo "Gemeinsam gegen den Krieg - Weihnachtsdemo\, Menschen sind keine Zielscheiben"
DESCRIPTION:Demonstration zur Unterstützung der Ukraine in München
LOCATION:Odeonsplatz\, München
DTSTART;TZID=Europe/Berlin:20251214T170000
DTEND;TZID=Europe/Berlin:20251214T190000
DTSTAMP:20251201T160329Z
END:VEVENT
END:VCALENDAR