BEGIN:VCALENDAR
VERSION:2.0
PRODID:-//PIRATEN//NONSGML ELSAevent//DE
METHOD:PUBLISH
BEGIN:VEVENT
CATEGORIES:sonstige Veranstaltung
CLASS:PUBLIC
UID:20854@kalender.piratenpartei-bayern.de
ORGANIZER;CN="KV München":MAILTO:
SUMMARY:Stammtisch
DESCRIPTION:Post UU-Sammlungs Stammtisch
LOCATION:Sappralott\, München
DTSTART;TZID=Europe/Berlin:20260119T190000
DTEND;TZID=Europe/Berlin:20260119T220000
DTSTAMP:20260119T215901Z
END:VEVENT
END:VCALENDAR