BEGIN:VCALENDAR
VERSION:2.0
PRODID:-//PIRATEN//NONSGML ELSAevent//DE
METHOD:PUBLISH
BEGIN:VEVENT
CATEGORIES:sonstige Veranstaltung
CLASS:PUBLIC
UID:22187@kalender.piratenpartei-bayern.de
ORGANIZER;CN="BzV Niederbayern":MAILTO:
SUMMARY:Stammtisch Passau
DESCRIPTION:Jeweils am 3. Dienstag im Monat - Gäste sind ausdrücklich erwünscht!
LOCATION:Akropolis Athen\, Rudolf-Guby-Str. 1\, Passau
DTSTART;TZID=Europe/Berlin:20260317T190000
DTEND;TZID=Europe/Berlin:20260317T210000
DTSTAMP:20260317T234001Z
END:VEVENT
END:VCALENDAR