BEGIN:VCALENDAR
VERSION:2.0
PRODID:-//PIRATEN//NONSGML ELSAevent//DE
METHOD:PUBLISH
BEGIN:VEVENT
CATEGORIES:sonstige Veranstaltung
CLASS:PUBLIC
UID:23170@kalender.piratenpartei-bayern.de
ORGANIZER;CN="KV München":MAILTO:
SUMMARY:Stammtisch München&Oberbayern
DESCRIPTION:Stammtisch im Sappralott Donnersbergerstraße 37
LOCATION:Sappralott\, München
DTSTART;TZID=Europe/Berlin:20260323T190000
DTEND;TZID=Europe/Berlin:20260323T210000
DTSTAMP:20260324T054001Z
END:VEVENT
END:VCALENDAR