BEGIN:VCALENDAR
VERSION:2.0
PRODID:-//PIRATEN//NONSGML ELSAevent//DE
METHOD:PUBLISH
BEGIN:VEVENT
CATEGORIES:sonstige Veranstaltung
CLASS:PUBLIC
UID:25296@kalender.piratenpartei-bayern.de
ORGANIZER;CN="LV Bayern":MAILTO:vorstand@piratenpartei-bayern.de
SUMMARY:SpringBreak / Marina
DESCRIPTION:Stell dir vor\, wir treffen uns mal am Wochenende\, nicht\, um über das Programm oder unsere Satzung zu streiten\, sondern um uns selbst neu zu erfinden. Kein klassischer Parteitag\, sondern ein "Springbreak" für unsere politische Zukunft: Wer wollen wir sein? Was ist unsere Vision?Und wie können wir politisch wieder sichtbarer werden und etwas bewirken?nnDarum laden wir dich am ersten Maiwochenende nach Nürnberg ein!
LOCATION:Nachbarschaftshaus Gostenhof\, Adam-Klein-Str. 6\, 90429 Nürnberg
DTSTART;TZID=Europe/Berlin:20260502T100000
DTEND;TZID=Europe/Berlin:20260503T190000
DTSTAMP:20260420T104002Z
END:VEVENT
END:VCALENDAR