BEGIN:VCALENDAR
VERSION:2.0
PRODID:-//PIRATEN//NONSGML ELSAevent//DE
METHOD:PUBLISH
BEGIN:VEVENT
CATEGORIES:sonstige Veranstaltung
CLASS:PUBLIC
UID:25399@kalender.piratenpartei-bayern.de
ORGANIZER;CN="KV München":MAILTO:
SUMMARY:CSD München
DESCRIPTION:Wir müssen uns noch Anmelden\, vrsl. für 2 Tage. Jede Hilfe wird willkommen sein\, insbesondere falls wir auch beim Umzug mitmachen wollen.
LOCATION:Ludwigstraße\, München
DTSTART;TZID=Europe/Berlin:20260626T000000
DTEND;TZID=Europe/Berlin:20260627T200000
DTSTAMP:20260420T094001Z
END:VEVENT
END:VCALENDAR