BEGIN:VCALENDAR
VERSION:2.0
PRODID:-//PIRATEN//NONSGML ELSAevent//DE
METHOD:PUBLISH
BEGIN:VEVENT
CATEGORIES:sonstige Veranstaltung
CLASS:PUBLIC
UID:25997@kalender.piratenpartei-bayern.de
ORGANIZER;CN="KV Ansbach/Weißenburg-Gunzenhausen":MAILTO:stefan.albrecht@piraten-mfr.de
SUMMARY:MV Ansbach Weißenburg-Gunzenhausen 2026.1
DESCRIPTION:
LOCATION:Frickenfelder Str. 31\, 91710 Gunzenhausen
DTSTART;TZID=Europe/Berlin:20260425T190000
DTEND;TZID=Europe/Berlin:20260425T210000
DTSTAMP:20260421T074004Z
END:VEVENT
END:VCALENDAR