BEGIN:VCALENDAR
VERSION:2.0
PRODID:-//PIRATEN//NONSGML ELSAevent//DE
METHOD:PUBLISH
BEGIN:VEVENT
CATEGORIES:sonstige Veranstaltung
CLASS:PUBLIC
UID:26029@kalender.piratenpartei-bayern.de
ORGANIZER;CN="KV München":MAILTO:
SUMMARY:Stammtisch München
DESCRIPTION:Gäste immer willkommen!nEs gibt nächste Woche übrigens auch einen Onlinestammtisch: https://agitatorrr.de/va/337
LOCATION:Sappralott\, München
DTSTART;TZID=Europe/Berlin:20260427T190000
DTEND;TZID=Europe/Berlin:20260427T213000
DTSTAMP:20260421T074004Z
END:VEVENT
END:VCALENDAR