BEGIN:VCALENDAR
VERSION:2.0
PRODID:-//PIRATEN//NONSGML ELSAevent//DE
METHOD:PUBLISH
BEGIN:VEVENT
CATEGORIES:sonstige Veranstaltung
CLASS:PUBLIC
UID:3018@kalender.piratenpartei-bayern.de
ORGANIZER;CN="BzV Mittelfranken":MAILTO:vorstand@piraten-mfr.de
SUMMARY:Vorbereitungstreffen Bundesparteitag
DESCRIPTION:http://wiki.piratenpartei.de/Bundesparteitag_2012.1/Vorbereitungstreffen
LOCATION:Nürnberg\, Nachbarschaftshaus Gostenhof\, Adam-Klein-Straße 6\, 90429 Nürnberg
DTSTART;TZID=Europe/Berlin:20120422T110000
DTEND;TZID=Europe/Berlin:20120422T180000
DTSTAMP:20120331T161916Z
END:VEVENT
END:VCALENDAR