BEGIN:VCALENDAR
VERSION:2.0
PRODID:-//PIRATEN//NONSGML ELSAevent//DE
METHOD:PUBLISH
BEGIN:VEVENT
CATEGORIES:Arbeitstreffen
CLASS:PUBLIC
UID:5307@kalender.piratenpartei-bayern.de
ORGANIZER;CN="BzV Mittelfranken":MAILTO:vorstand@piraten-mfr.de
SUMMARY:AG Bezirkstagswahlprogramm
DESCRIPTION:
LOCATION:Geschäftsstelle\, Nürnberg\, Zirkelschmiedsgasse 5\, 90402 Nürnberg
DTSTART;TZID=Europe/Berlin:20121112T190000
DTEND;TZID=Europe/Berlin:20121112T220000
DTSTAMP:20121015T130950Z
END:VEVENT
END:VCALENDAR